BEGIN:VCALENDAR
VERSION:2.0
PRODID:-//DonMentia - ECPv6.15.20//NONSGML v1.0//EN
CALSCALE:GREGORIAN
METHOD:PUBLISH
X-WR-CALNAME:DonMentia
X-ORIGINAL-URL:https://donmentia.org
X-WR-CALDESC:Events for DonMentia
REFRESH-INTERVAL;VALUE=DURATION:PT1H
X-Robots-Tag:noindex
X-PUBLISHED-TTL:PT1H
BEGIN:VTIMEZONE
TZID:UTC
BEGIN:STANDARD
TZOFFSETFROM:+0000
TZOFFSETTO:+0000
TZNAME:UTC
DTSTART:20170101T000000
END:STANDARD
END:VTIMEZONE
BEGIN:VEVENT
DTSTART;TZID=UTC:20210828T110000
DTEND;TZID=UTC:20210828T160000
DTSTAMP:20260422T005620
CREATED:20210809T185248Z
LAST-MODIFIED:20210809T185248Z
UID:426-1630148400-1630166400@donmentia.org
SUMMARY:Balby by the Sea
DESCRIPTION:
URL:https://donmentia.org/event/balby-by-the-sea/
LOCATION:Woodfield Park\, Tickhill Road\, Doncaster\, DN4 8QP\, United Kingdom
END:VEVENT
BEGIN:VEVENT
DTSTART;TZID=UTC:20210720T100000
DTEND;TZID=UTC:20210720T170000
DTSTAMP:20260422T005620
CREATED:20210715T175521Z
LAST-MODIFIED:20210715T175521Z
UID:420-1626775200-1626800400@donmentia.org
SUMMARY:Cleethorpes Trip 2
DESCRIPTION:DonMentia is offering a free trip to Cleethorpes \nfor people with dementia and their regular carer on \nThursday 15th July 2021  Or Tuesday 20th July 2021 \nPlease meet at 10.20 at Doncaster station booking office \n(train leaves at 10.37am) \nWe hope you can join us for what is sure to be an enjoyable day out \nHowever\, if you sign up and then find that you are unable to attend\, please \nphone Eileen on 01302 723322 or email eileen@donmentia.org \nas soon as possible to allow someone else to be offered the place. \nPlease download\, complete and return both the attached \nBooking Form Cleethorpes  Download\nCleethorpes Trip Info   Download
URL:https://donmentia.org/event/cleethorpes-trip-2/
END:VEVENT
BEGIN:VEVENT
DTSTART;VALUE=DATE:20210521
DTEND;VALUE=DATE:20210522
DTSTAMP:20260422T005620
CREATED:20210406T064932Z
LAST-MODIFIED:20210406T064932Z
UID:375-1621555200-1621641599@donmentia.org
SUMMARY:Donmentia Golf Open Day
DESCRIPTION:Please see attached pdf. \nRaffle prizes needed. Wheatley Golf Club are always extremely generous when it comes to giving to DonMentia. \nWHEATLEY GOLF CLUB – DEMENTIA CHARITY DAY
URL:https://donmentia.org/event/donmentia-golf-open-day/
LOCATION:Wheatley Golf Club\, DN2 5QB\, United Kingdom
END:VEVENT
BEGIN:VEVENT
DTSTART;TZID=UTC:20200423T110000
DTEND;TZID=UTC:20200423T170000
DTSTAMP:20260422T005620
CREATED:20200310T085138Z
LAST-MODIFIED:20200310T085138Z
UID:338-1587639600-1587661200@donmentia.org
SUMMARY:Mayflower 400 trip
DESCRIPTION:Meet at 11.15am Austerfield Church\, DN10 6RG -for a tour and talk by a church volunteer \n  \n12.30pm to the Pilgrim Fathers pub and restaurant in Scrooby\, DN10 6AT\, for lunch (a ten-minute drive) \n  \nFollowing lunch there will another short talk and tour of Scrooby Church\, which is just across the road. \nBoth churches are small so there will not be a lot of walking involved. \nA minibus has been provided for those who do not have their own cars but it is anticipated that all who can make their way there\, will use their own transport.   \n The bus has already been paid for by DonMentia so is free to anyone in need\, but a mandatory fee of £10 per person will be charged if you book a place and then fail to take your seat.   \n The bus will depart from the Market Place Car Park\, Doncaster at 11am.  It will also take you to the Pilgrim Fathers and return to the same town centre car park at approximately 3pm but the return time is only a rough guide. \nIn November 2020 it will be 400 years since the founding of America.  Various religious groups\, who were being persecuted by King James 1st\, left England on a ship called the Mayflower\, to set up a new colony where they could practice their beliefs freely.  \n  \nWilliam Bradford\, who came from Austerfield\, became the first Governor of the Plymouth Colony in Massachusetts\, whose authority lasted for 30 years\, helped develop the first permanent colony in what came to be called New England. \n  \nWilliam Brewster\, from Scrooby\, became the senior elder and religious leader of the Colony and was also an adviser to Governor William Bradford. \n  \nThe trip is open to people with dementia and their regular carer \n  \n\n\n  \n\n\n\n Your Name (required)\n \n \n Your Email (required)\n \n \n Your Phone (required)  \n \n No. of Tickets Required  \n \nI accept this trip is undertaken at my/our own risk and DonMentia has no responsibility for mishaps.\n\n \nI/We will gladly make a donation of £10 per person to DonMentia should I/We fail to honour my/our commitment to taking part in this trip.\n \n\n Δ
URL:https://donmentia.org/event/mayflower-400-trip/
ORGANIZER;CN="DonMentia":MAILTO:info@donmentia.org
END:VEVENT
BEGIN:VEVENT
DTSTART;TZID=UTC:20200208T120000
DTEND;TZID=UTC:20200208T133000
DTSTAMP:20260422T005620
CREATED:20200121T181210Z
LAST-MODIFIED:20200121T181210Z
UID:318-1581163200-1581168600@donmentia.org
SUMMARY:Fish Bits Lunch
DESCRIPTION:We love Fish Bits and take our wards\, carers and volunteers there at least twice a year. \nThis not a ‘family day out’ but a chance for carers to mingle while those living with dementia get peer support. \nTwo places per household and there are many spaces left. \n\n\n  \n\n\n\n Carer Name (required)\n \n \n Your Email\n \n Your Phone (required)\n\n \n Name of Dementia 'guest'\n \n \nSpaces at this event are at a premium. Just two places 'each' please.\n \n\n Δ \n\n\n\n 
URL:https://donmentia.org/event/fish-bits-lunch/
END:VEVENT
BEGIN:VEVENT
DTSTART;TZID=UTC:20191202T120000
DTEND;TZID=UTC:20191202T150000
DTSTAMP:20260422T005620
CREATED:20191024T103520Z
LAST-MODIFIED:20191127T154143Z
UID:299-1575288000-1575298800@donmentia.org
SUMMARY:Earl of Doncaster - FULLY BOOKED
DESCRIPTION:Festive Afternoon Tea at \nThe Earl of Doncaster \nMonday 2nd December 2019 at 12-3pm – FULLY BOOKED \nYou are invited to join us in an afternoon of music and entertainment. \nA sumptuous tea will be provided\, as will the entertainment in \nthe company of the lively singer\, Susan St. James. \nWhilst this event is free to all participants please note that if you drop out\, without  \ngood reason\, after Monday 4th November\, a fee of £15 per person will be payable  \ndue to the expenses that will already have been incurred by the organisers. \nSponsored by Home Instead Senior Care\, Superjam\, Keebles Solicitors and DonMentia \n 
URL:https://donmentia.org/event/earl-of-doncaster/
END:VEVENT
BEGIN:VEVENT
DTSTART;TZID=UTC:20191116T123000
DTEND;TZID=UTC:20191116T153000
DTSTAMP:20260422T005620
CREATED:20191019T070404Z
LAST-MODIFIED:20191019T070404Z
UID:296-1573907400-1573918200@donmentia.org
SUMMARY:Markham Grange
DESCRIPTION:This date has been chosen because it is the Northern Chrysanthemum Show as well as there being a Christmas Craft Fair at the same time.  Consequently\, there will be beautiful blooms to admire and handmade gifts galore to get in some early present buying.   The Steam Museum\, on site\, is usually open at the weekends too; well worth a visit.  So\, lots to do as well as delicious food and good company to enjoy.  There will also be a raffle and perhaps a Lucky Dip. \nMarkham Grange is approximately 1 mile from the Great North Road (A638)\, north of Doncaster\, and approximately the same from junction 38 on the A1(M) (Redhouse Roundabout).  There is ample free parking and everywhere is accessible by wheelchair. \nThere are no buses that pass nearby\, so please let me know if you wish to go but really cannot make alternative arrangements to get there. \nThis occasion is open to people with dementia and their regular carer who appreciate the weekday cafes\, events and activities\, but whose families are too far away to visit at weekends. \nPlease wear your DonMentia name badge\, which acts as your meal ticket. \nThe event is absolutely free to all participants but any voluntary donations will be welcomed to go towards another event\, activity or outing.  However\, this is entirely voluntary and there is no obligation to donate. \nPlease fill in the form below \n  \n  \n\n\n  \n\n\n\n Event or Trip Name (required)\n \n \n Your Name (required)\n \n \n Your Email\n \n Your Phone (required)\n\n Your Address\n \n Additional Information\n \n \nIf this event requires the purchase of a ticket\, please tick the box to confirm that you will reimburse DonMentia for the cost of the ticket even if you\, for some reason\, cannot atttend on the day.\n \nTick the box \n \n\n Δ
URL:https://donmentia.org/event/markham-grange/
LOCATION:Markham Grange Nursery\, Long Lands Lane\, Doncaster\, South Yorkshire\, DN5 7XB\, United Kingdom
END:VEVENT
BEGIN:VEVENT
DTSTART;TZID=UTC:20191010T120000
DTEND;TZID=UTC:20191010T150000
DTSTAMP:20260422T005620
CREATED:20190910T140649Z
LAST-MODIFIED:20190913T083158Z
UID:246-1570708800-1570719600@donmentia.org
SUMMARY:Superjam Tea Party
DESCRIPTION:Sponsored by The Rotary Clubs of Doncaster\, a tea party with entertainment from Stevie Moore and Patricia Lynn. Tickets £5.  \nPrintable Superjam Booking form \n\n\n  \n\n\n\n Event or Trip Name (required)\n \n \n Your Name (required)\n \n \n Your Email\n \n Your Phone (required)\n\n Your Address\n \n Additional Information\n \n \nIf this event requires the purchase of a ticket\, please tick the box to confirm that you will reimburse DonMentia for the cost of the ticket even if you\, for some reason\, cannot atttend on the day.\n \nTick the box \n \n\n Δ
URL:https://donmentia.org/event/superjam-tea-party/
LOCATION:Bentley Pavillion\, Askern Road\, DN5 0HU\, United Kingdom
END:VEVENT
BEGIN:VEVENT
DTSTART;TZID=UTC:20190928T123000
DTEND;TZID=UTC:20190928T140000
DTSTAMP:20260422T005620
CREATED:20190922T084058Z
LAST-MODIFIED:20190922T084142Z
UID:267-1569673800-1569679200@donmentia.org
SUMMARY:Lunch at Fish Bits
DESCRIPTION:We do this a lot. DonMentia will pay for your lunch. Please make your own way there. \n\n\n  \n\n\n\n Event or Trip Name (required)\n \n \n Your Name (required)\n \n \n Your Email\n \n Your Phone (required)\n\n Your Address\n \n Additional Information\n \n \nIf this event requires the purchase of a ticket\, please tick the box to confirm that you will reimburse DonMentia for the cost of the ticket even if you\, for some reason\, cannot atttend on the day.\n \nTick the box \n \n\n Δ
URL:https://donmentia.org/event/lunch-at-fish-bits/
LOCATION:Fish Bits\, Carr House Road\, Doncaster\, DN1 2BY
END:VEVENT
BEGIN:VEVENT
DTSTART;TZID=UTC:20240719T101500
DTEND;TZID=UTC:20240719T101500
DTSTAMP:20260422T005620
CREATED:20190628T113405Z
LAST-MODIFIED:20240622T191813Z
UID:217-1721384100-1721384100@donmentia.org
SUMMARY:Train Trip to Cleethorpes
DESCRIPTION:DonMentia is offering a free trip to Cleethorpes for people with dementia and their regular carer on \nFriday 19th July 2024 to include lunch \n Please meet at 10.15 at Doncaster station booking office \n(train leaves at 10.37am) \nPlease download the attached forms\, print them out\, fill them in and get them back to Eileeen \n  \nBooking form P1 Cleeth 2024 Booking form p2 Cleeth 2024 \n  \nPlaces are limited so it’s a case of first come first served \n  \nHowever\, if you sign up and then find that you are unable to attend\,  \nplease phone Eileen as soon as possible on 01302 723322  \nor email eileen@donmentia.org to allow someone else to be offered the place
URL:https://donmentia.org/event/train-trip-to-cleethorpes/
LOCATION:Cleethorpes
ORGANIZER;CN="DonMentia":MAILTO:info@donmentia.org
END:VEVENT
BEGIN:VEVENT
DTSTART;TZID=UTC:20190601T190000
DTEND;TZID=UTC:20190601T210000
DTSTAMP:20260422T005620
CREATED:20190423T134642Z
LAST-MODIFIED:20190423T134642Z
UID:185-1559415600-1559422800@donmentia.org
SUMMARY:Police Choir Annual Concert
DESCRIPTION:The South Yorkshire Police Male Voice Choir annual concert is to be held on Sat 1st June at Hallcross academy lower school St Michaels Rd Bessacarr at 7pm. Our guests will be Doncaster Youth Swing Orchestra and MC is BBC Look North’s Phil Bodmer.\nA donation from proceeds of the concert is to be made to DonMentia and Doncaster Cancer Detection Trust.\nIf tickets are required they can be obtained from Rob Dixon on 01302/539284.
URL:https://donmentia.org/event/police-choir-annual-concert/
END:VEVENT
BEGIN:VEVENT
DTSTART;TZID=UTC:20190319T183000
DTEND;TZID=UTC:20190319T213000
DTSTAMP:20260422T005620
CREATED:20190122T110442Z
LAST-MODIFIED:20190122T110442Z
UID:170-1553020200-1553031000@donmentia.org
SUMMARY:Good Old Days
DESCRIPTION:Cast Theatre Doncaster \n  \n\n\n  \n\n\n\n Event or Trip Name (required)\n \n \n Your Name (required)\n \n \n Your Email\n \n Your Phone (required)\n\n Your Address\n \n Additional Information\n \n \nIf this event requires the purchase of a ticket\, please tick the box to confirm that you will reimburse DonMentia for the cost of the ticket even if you\, for some reason\, cannot atttend on the day.\n \nTick the box \n \n\n Δ
URL:https://donmentia.org/event/good-old-days/
END:VEVENT
BEGIN:VEVENT
DTSTART;TZID=UTC:20190124T080000
DTEND;TZID=UTC:20190124T170000
DTSTAMP:20260422T005620
CREATED:20190122T110202Z
LAST-MODIFIED:20190122T110202Z
UID:166-1548316800-1548349200@donmentia.org
SUMMARY:Boundary Mill
DESCRIPTION:Event or Trip Name (required)\n \n \n Your Name (required)\n \n \n Your Email\n \n Your Phone (required)\n\n Your Address\n \n Additional Information\n \n \nIf this event requires the purchase of a ticket\, please tick the box to confirm that you will reimburse DonMentia for the cost of the ticket even if you\, for some reason\, cannot atttend on the day.\n \nTick the box \n \n\n Δ
URL:https://donmentia.org/event/boundary-mill/
END:VEVENT
BEGIN:VEVENT
DTSTART;TZID=UTC:20180711T100000
DTEND;TZID=UTC:20180711T140000
DTSTAMP:20260422T005620
CREATED:20180627T122542Z
LAST-MODIFIED:20180704T072218Z
UID:88-1531303200-1531317600@donmentia.org
SUMMARY:Pop Up Shops
DESCRIPTION:POP UP SHOPS POSTER \nDonMentia in partnership with Doncaster Libraries and the Martinwells Centre will be fundraising by selling donated quality goods such as clothes\, jewellery\, shoes\, bric a brac and home made produce. You will find us at: \nMexborough Library Wednesday July 11th\, 10am -2pm \nMartinwell Centre\, Edlington Wednesday August 15th\, 10am -2pm \nCentral Library\, Waterdale Doncaster Wednesday 19th September\, 10 am -2pm
URL:https://donmentia.org/event/pop-up-shops/
LOCATION:Mexborough Library
END:VEVENT
BEGIN:VEVENT
DTSTART;TZID=UTC:20180522T133000
DTEND;TZID=UTC:20180522T210000
DTSTAMP:20260422T005620
CREATED:20180330T070143Z
LAST-MODIFIED:20180330T070338Z
UID:37-1526995800-1527022800@donmentia.org
SUMMARY:DonMentia Golf Day
DESCRIPTION:The wonderful members of Wheatley Golf Club are having a golf day with the sole aim of raising money for DonMentia.
URL:https://donmentia.org/event/donmentia-golf-day/
LOCATION:Wheatley Golf Club\, DN2 5QB\, United Kingdom
ATTACH;FMTTYPE=image/jpeg:https://donmentia.org/wp-content/uploads/2018/03/posterfinal.jpg
END:VEVENT
END:VCALENDAR