BEGIN:VCALENDAR
VERSION:2.0
PRODID:-//DonMentia - ECPv6.15.20//NONSGML v1.0//EN
CALSCALE:GREGORIAN
METHOD:PUBLISH
X-ORIGINAL-URL:https://donmentia.org
X-WR-CALDESC:Events for DonMentia
REFRESH-INTERVAL;VALUE=DURATION:PT1H
X-Robots-Tag:noindex
X-PUBLISHED-TTL:PT1H
BEGIN:VTIMEZONE
TZID:UTC
BEGIN:STANDARD
TZOFFSETFROM:+0000
TZOFFSETTO:+0000
TZNAME:UTC
DTSTART:20250101T000000
END:STANDARD
END:VTIMEZONE
BEGIN:VEVENT
DTSTART;TZID=UTC:20260319T193000
DTEND;TZID=UTC:20260319T223000
DTSTAMP:20260421T194754
CREATED:20190122T104124Z
LAST-MODIFIED:20260127T201120Z
UID:156-1773948600-1773959400@donmentia.org
SUMMARY:Quiz Night
DESCRIPTION:Charity Quiz \nat \nSprotbrough Country Club \nCadeby Road\, Doncaster DN5 7SD\nThursday 19th March 2026 \nStart 7.30pm\nTickets £15 \nto include pie and pea supper \nRaffle \nNo limit to team participants but four prizes only for the winning team \n\n\n  \n\n\n\n Your Name (required)\n \n Phone (required)\n \n \n Your Email\n \n \n Number of seats\n\n \n Contact Address\n \n \n\n Δ \n\n\n\n  \n  \n 
URL:https://donmentia.org/event/quiz-night/
LOCATION:Sprotbrough Country Club\, Cadeby Road\, Sprotbrough\, DN5 7SD\, United Kingdom
ORGANIZER;CN="DonMentia":MAILTO:info@donmentia.org
END:VEVENT
END:VCALENDAR